View In:
ArcGIS JavaScript
ArcGIS Online Map Viewer
ArcGIS Earth
ArcMap
View Footprint In:
ArcGIS Online Map Viewer
Service Description: Lidar 2009 Slope
Name: slope
Description: Lidar 2009 Slope
Single Fused Map Cache: false
Extent:
XMin: -1.2739150007077748E7
YMin: 6168311.473544892
XMax: -1.2723699359376447E7
YMax: 6188955.009231971
Spatial Reference: 102100
(3857)
Initial Extent:
XMin: -1.2739150007077748E7
YMin: 6168311.473544892
XMax: -1.2723699359376447E7
YMax: 6188955.009231971
Spatial Reference: 102100
(3857)
Full Extent:
XMin: -1.2739150007077748E7
YMin: 6168311.473544892
XMax: -1.2723699359376447E7
YMax: 6188955.009231971
Spatial Reference: 102100
(3857)
Pixel Size X: 0.9144018288039699
Pixel Size Y: 0.914401828803983
Band Count: 1
Pixel Type: F32
RasterFunction Infos: {"rasterFunctionInfos": [
{
"name": "SLOPE_Classified",
"description": "A raster function template.",
"help": ""
},
{
"name": "None",
"description": "",
"help": ""
}
]}
Mensuration Capabilities: Basic
Has Histograms: false
Has Colormap: false
Has Multi Dimensions : false
Rendering Rule:
Min Scale: 0
Max Scale: 0
Copyright Text:
Service Data Type: esriImageServiceDataTypeThematic
Min Values: 0
Max Values: 78.702392578125
Mean Values: 10.202398790932838
Standard Deviation Values: 9.720213153249388
Object ID Field:
Fields:
None
Default Mosaic Method: Center
Allowed Mosaic Methods:
SortField:
SortValue: null
Mosaic Operator: First
Default Compression Quality: 75
Default Resampling Method: Bilinear
Max Record Count: null
Max Image Height: 4100
Max Image Width: 15000
Max Download Image Count: null
Max Mosaic Image Count: null
Allow Raster Function: true
Allow Compute TiePoints: false
Supports Statistics: false
Supports Advanced Queries: false
Use StandardizedQueries: true
Raster Type Infos:
Name: Raster Dataset
Description: Supports all ArcGIS Raster Datasets
Help:
Has Raster Attribute Table: false
Edit Fields Info: null
Ownership Based AccessControl For Rasters: null
Child Resources:
Info
Key Properties
Legend
rasterFunctionInfos
Supported Operations:
Export Image
Identify
Measure
Compute Histograms
Compute Statistics Histograms
Get Samples
Compute Class Statistics
Query Boundary
Compute Pixel Location
Validate
Project